BEGIN:VCALENDAR
VERSION:2.0
PRODID:-//District One, Area 42 - Nevada - ECPv6.15.15//NONSGML v1.0//EN
CALSCALE:GREGORIAN
METHOD:PUBLISH
X-ORIGINAL-URL:https://districtone-nv.org
X-WR-CALDESC:Events for District One, Area 42 - Nevada
REFRESH-INTERVAL;VALUE=DURATION:PT1H
X-Robots-Tag:noindex
X-PUBLISHED-TTL:PT1H
BEGIN:VTIMEZONE
TZID:America/Los_Angeles
BEGIN:DAYLIGHT
TZOFFSETFROM:-0800
TZOFFSETTO:-0700
TZNAME:PDT
DTSTART:20230312T100000
END:DAYLIGHT
BEGIN:STANDARD
TZOFFSETFROM:-0700
TZOFFSETTO:-0800
TZNAME:PST
DTSTART:20231105T090000
END:STANDARD
BEGIN:DAYLIGHT
TZOFFSETFROM:-0800
TZOFFSETTO:-0700
TZNAME:PDT
DTSTART:20240310T100000
END:DAYLIGHT
BEGIN:STANDARD
TZOFFSETFROM:-0700
TZOFFSETTO:-0800
TZNAME:PST
DTSTART:20241103T090000
END:STANDARD
BEGIN:DAYLIGHT
TZOFFSETFROM:-0800
TZOFFSETTO:-0700
TZNAME:PDT
DTSTART:20250309T100000
END:DAYLIGHT
BEGIN:STANDARD
TZOFFSETFROM:-0700
TZOFFSETTO:-0800
TZNAME:PST
DTSTART:20251102T090000
END:STANDARD
END:VTIMEZONE
BEGIN:VEVENT
DTSTART;TZID=America/Los_Angeles:20240519T030000
DTEND;TZID=America/Los_Angeles:20240519T040000
DTSTAMP:20260421T032435
CREATED:20240524T014924Z
LAST-MODIFIED:20240524T015408Z
UID:2388-1716087600-1716091200@districtone-nv.org
SUMMARY:District One Business Meeting
DESCRIPTION:Meeting Agenda
URL:https://districtone-nv.org/index.php/event/district-one-business-meeting-11/
LOCATION:Central Office\, 1515 E Tropican Ave #710\, Las Vegas\, Nevada\, 89119
END:VEVENT
END:VCALENDAR