BEGIN:VCALENDAR
VERSION:2.0
PRODID:-//District One, Area 42 - Nevada - ECPv6.15.15//NONSGML v1.0//EN
CALSCALE:GREGORIAN
METHOD:PUBLISH
X-WR-CALNAME:District One, Area 42 - Nevada
X-ORIGINAL-URL:https://districtone-nv.org
X-WR-CALDESC:Events for District One, Area 42 - Nevada
REFRESH-INTERVAL;VALUE=DURATION:PT1H
X-Robots-Tag:noindex
X-PUBLISHED-TTL:PT1H
BEGIN:VTIMEZONE
TZID:America/Los_Angeles
BEGIN:DAYLIGHT
TZOFFSETFROM:-0800
TZOFFSETTO:-0700
TZNAME:PDT
DTSTART:20220313T100000
END:DAYLIGHT
BEGIN:STANDARD
TZOFFSETFROM:-0700
TZOFFSETTO:-0800
TZNAME:PST
DTSTART:20221106T090000
END:STANDARD
BEGIN:DAYLIGHT
TZOFFSETFROM:-0800
TZOFFSETTO:-0700
TZNAME:PDT
DTSTART:20230312T100000
END:DAYLIGHT
BEGIN:STANDARD
TZOFFSETFROM:-0700
TZOFFSETTO:-0800
TZNAME:PST
DTSTART:20231105T090000
END:STANDARD
BEGIN:DAYLIGHT
TZOFFSETFROM:-0800
TZOFFSETTO:-0700
TZNAME:PDT
DTSTART:20240310T100000
END:DAYLIGHT
BEGIN:STANDARD
TZOFFSETFROM:-0700
TZOFFSETTO:-0800
TZNAME:PST
DTSTART:20241103T090000
END:STANDARD
END:VTIMEZONE
BEGIN:VEVENT
DTSTART;TZID=America/Los_Angeles:20231210T050000
DTEND;TZID=America/Los_Angeles:20231210T070000
DTSTAMP:20260421T114729
CREATED:20230918T061005Z
LAST-MODIFIED:20230918T061212Z
UID:2277-1702184400-1702191600@districtone-nv.org
SUMMARY:GSR Roundup
DESCRIPTION:GSR Roundup Flyer
URL:https://districtone-nv.org/index.php/event/gsr-roundup/
LOCATION:Central Office\, 1515 E Tropican Ave #710\, Las Vegas\, Nevada\, 89119
END:VEVENT
BEGIN:VEVENT
DTSTART;TZID=America/Los_Angeles:20231217T021500
DTEND;TZID=America/Los_Angeles:20231217T031500
DTSTAMP:20260421T114729
CREATED:20231127T082525Z
LAST-MODIFIED:20231127T082657Z
UID:2309-1702779300-1702782900@districtone-nv.org
SUMMARY:District 1 Business Meeting
DESCRIPTION:Meeting Agenda
URL:https://districtone-nv.org/index.php/event/district-1-business-meeting-2/
LOCATION:Lost and Found Club\, 544 Avenue H\, Boulder City\, NV\, 89005\, United States
END:VEVENT
BEGIN:VEVENT
DTSTART;TZID=America/Los_Angeles:20231217T070000
DTEND;TZID=America/Los_Angeles:20231217T090000
DTSTAMP:20260421T114729
CREATED:20231127T083332Z
LAST-MODIFIED:20231127T083634Z
UID:2314-1702796400-1702803600@districtone-nv.org
SUMMARY:Janey P. Celebration of Life
DESCRIPTION:Event Flyer
URL:https://districtone-nv.org/index.php/event/janey-p-celebration-of-life/
LOCATION:51 Club\, 46 Magnesium St\, Henderson\, NV\, 89015\, United States
END:VEVENT
END:VCALENDAR