BEGIN:VCALENDAR
VERSION:2.0
PRODID:-//District One, Area 42 - Nevada - ECPv6.15.15//NONSGML v1.0//EN
CALSCALE:GREGORIAN
METHOD:PUBLISH
X-WR-CALNAME:District One, Area 42 - Nevada
X-ORIGINAL-URL:https://districtone-nv.org
X-WR-CALDESC:Events for District One, Area 42 - Nevada
REFRESH-INTERVAL;VALUE=DURATION:PT1H
X-Robots-Tag:noindex
X-PUBLISHED-TTL:PT1H
BEGIN:VTIMEZONE
TZID:America/Los_Angeles
BEGIN:DAYLIGHT
TZOFFSETFROM:-0800
TZOFFSETTO:-0700
TZNAME:PDT
DTSTART:20220313T100000
END:DAYLIGHT
BEGIN:STANDARD
TZOFFSETFROM:-0700
TZOFFSETTO:-0800
TZNAME:PST
DTSTART:20221106T090000
END:STANDARD
BEGIN:DAYLIGHT
TZOFFSETFROM:-0800
TZOFFSETTO:-0700
TZNAME:PDT
DTSTART:20230312T100000
END:DAYLIGHT
BEGIN:STANDARD
TZOFFSETFROM:-0700
TZOFFSETTO:-0800
TZNAME:PST
DTSTART:20231105T090000
END:STANDARD
BEGIN:DAYLIGHT
TZOFFSETFROM:-0800
TZOFFSETTO:-0700
TZNAME:PDT
DTSTART:20240310T100000
END:DAYLIGHT
BEGIN:STANDARD
TZOFFSETFROM:-0700
TZOFFSETTO:-0800
TZNAME:PST
DTSTART:20241103T090000
END:STANDARD
END:VTIMEZONE
BEGIN:VEVENT
DTSTART;TZID=America/Los_Angeles:20230908T040000
DTEND;TZID=America/Los_Angeles:20230910T010000
DTSTAMP:20260421T164330
CREATED:20230127T043151Z
LAST-MODIFIED:20230829T101844Z
UID:1943-1694145600-1694307600@districtone-nv.org
SUMMARY:Area 42 Fall Assembly
DESCRIPTION:
URL:https://districtone-nv.org/index.php/event/area-42-fall-assembly/
LOCATION:Tonopah Convention Center\, 301 Bougher Ave\, Tonopah\, NV\, 89049\, United States
END:VEVENT
BEGIN:VEVENT
DTSTART;TZID=America/Los_Angeles:20230909T050000
DTEND;TZID=America/Los_Angeles:20230909T060000
DTSTAMP:20260421T164330
CREATED:20230829T101648Z
LAST-MODIFIED:20230829T101649Z
UID:2252-1694235600-1694239200@districtone-nv.org
SUMMARY:District One Business Meeting
DESCRIPTION:12:00 at the Area Assembly in the “Blue Room”\nPizza and Salad Lunch will be served! \nMeeting Agenda
URL:https://districtone-nv.org/index.php/event/district-one-business-meeting-8/
LOCATION:Tonopah Convention Center\, 301 Bougher Ave\, Tonopah\, NV\, 89049\, United States
END:VEVENT
BEGIN:VEVENT
DTSTART;TZID=America/Los_Angeles:20230916T040000
DTEND;TZID=America/Los_Angeles:20230916T080000
DTSTAMP:20260421T164330
CREATED:20230716T233549Z
LAST-MODIFIED:20230716T233549Z
UID:2229-1694836800-1694851200@districtone-nv.org
SUMMARY:Beer 30 Annual Picnic
DESCRIPTION:Beer 30 Picnic
URL:https://districtone-nv.org/index.php/event/beer-30-annual-picnic/
LOCATION:Acacia Park\, 50 S. Casa Del Fuego St.\, Henderson\, NV\, 89012\, United States
END:VEVENT
END:VCALENDAR