BEGIN:VCALENDAR
VERSION:2.0
PRODID:-//District One, Area 42 - Nevada - ECPv6.15.15//NONSGML v1.0//EN
CALSCALE:GREGORIAN
METHOD:PUBLISH
X-ORIGINAL-URL:https://districtone-nv.org
X-WR-CALDESC:Events for District One, Area 42 - Nevada
REFRESH-INTERVAL;VALUE=DURATION:PT1H
X-Robots-Tag:noindex
X-PUBLISHED-TTL:PT1H
BEGIN:VTIMEZONE
TZID:America/Los_Angeles
BEGIN:DAYLIGHT
TZOFFSETFROM:-0800
TZOFFSETTO:-0700
TZNAME:PDT
DTSTART:20230312T100000
END:DAYLIGHT
BEGIN:STANDARD
TZOFFSETFROM:-0700
TZOFFSETTO:-0800
TZNAME:PST
DTSTART:20231105T090000
END:STANDARD
BEGIN:DAYLIGHT
TZOFFSETFROM:-0800
TZOFFSETTO:-0700
TZNAME:PDT
DTSTART:20240310T100000
END:DAYLIGHT
BEGIN:STANDARD
TZOFFSETFROM:-0700
TZOFFSETTO:-0800
TZNAME:PST
DTSTART:20241103T090000
END:STANDARD
BEGIN:DAYLIGHT
TZOFFSETFROM:-0800
TZOFFSETTO:-0700
TZNAME:PDT
DTSTART:20250309T100000
END:DAYLIGHT
BEGIN:STANDARD
TZOFFSETFROM:-0700
TZOFFSETTO:-0800
TZNAME:PST
DTSTART:20251102T090000
END:STANDARD
END:VTIMEZONE
BEGIN:VEVENT
DTSTART;TZID=America/Los_Angeles:20240623T050000
DTEND;TZID=America/Los_Angeles:20240623T060000
DTSTAMP:20260421T031518
CREATED:20240524T020032Z
LAST-MODIFIED:20240614T052027Z
UID:2397-1719118800-1719122400@districtone-nv.org
SUMMARY:District One Business Meeting
DESCRIPTION:Meeting Agenda
URL:https://districtone-nv.org/index.php/event/district-one-business-meeting-12/
LOCATION:Central Office\, 1515 E Tropican Ave #710\, Las Vegas\, Nevada\, 89119
END:VEVENT
BEGIN:VEVENT
DTSTART;TZID=America/Los_Angeles:20240623T070000
DTEND;TZID=America/Los_Angeles:20240623T090000
DTSTAMP:20260421T031518
CREATED:20240524T044606Z
LAST-MODIFIED:20240524T045031Z
UID:2401-1719126000-1719133200@districtone-nv.org
SUMMARY:D1 Traditions Workshop
DESCRIPTION:Event Flyer
URL:https://districtone-nv.org/index.php/event/traditions-district-one-workshop/
LOCATION:Central Office\, 1515 E Tropican Ave #710\, Las Vegas\, Nevada\, 89119
END:VEVENT
END:VCALENDAR