BEGIN:VCALENDAR
VERSION:2.0
PRODID:-//District One, Area 42 - Nevada - ECPv6.15.15//NONSGML v1.0//EN
CALSCALE:GREGORIAN
METHOD:PUBLISH
X-WR-CALNAME:District One, Area 42 - Nevada
X-ORIGINAL-URL:https://districtone-nv.org
X-WR-CALDESC:Events for District One, Area 42 - Nevada
REFRESH-INTERVAL;VALUE=DURATION:PT1H
X-Robots-Tag:noindex
X-PUBLISHED-TTL:PT1H
BEGIN:VTIMEZONE
TZID:America/Los_Angeles
BEGIN:DAYLIGHT
TZOFFSETFROM:-0800
TZOFFSETTO:-0700
TZNAME:PDT
DTSTART:20230312T100000
END:DAYLIGHT
BEGIN:STANDARD
TZOFFSETFROM:-0700
TZOFFSETTO:-0800
TZNAME:PST
DTSTART:20231105T090000
END:STANDARD
BEGIN:DAYLIGHT
TZOFFSETFROM:-0800
TZOFFSETTO:-0700
TZNAME:PDT
DTSTART:20240310T100000
END:DAYLIGHT
BEGIN:STANDARD
TZOFFSETFROM:-0700
TZOFFSETTO:-0800
TZNAME:PST
DTSTART:20241103T090000
END:STANDARD
BEGIN:DAYLIGHT
TZOFFSETFROM:-0800
TZOFFSETTO:-0700
TZNAME:PDT
DTSTART:20250309T100000
END:DAYLIGHT
BEGIN:STANDARD
TZOFFSETFROM:-0700
TZOFFSETTO:-0800
TZNAME:PST
DTSTART:20251102T090000
END:STANDARD
END:VTIMEZONE
BEGIN:VEVENT
DTSTART;TZID=America/Los_Angeles:20240301T050000
DTEND;TZID=America/Los_Angeles:20240303T040000
DTSTAMP:20260421T083523
CREATED:20231228T231341Z
LAST-MODIFIED:20240108T080554Z
UID:2326-1709269200-1709438400@districtone-nv.org
SUMMARY:PRAASA
DESCRIPTION:Registration Link \nEvent Flyer
URL:https://districtone-nv.org/index.php/event/praasa/
LOCATION:San Francisco Marriott Marquis\, 55 Forth St.\, San Francisco\, CA\, 94103\, United States
END:VEVENT
END:VCALENDAR