BEGIN:VCALENDAR
VERSION:2.0
PRODID:-//District One, Area 42 - Nevada - ECPv6.15.15//NONSGML v1.0//EN
CALSCALE:GREGORIAN
METHOD:PUBLISH
X-ORIGINAL-URL:https://districtone-nv.org
X-WR-CALDESC:Events for District One, Area 42 - Nevada
REFRESH-INTERVAL;VALUE=DURATION:PT1H
X-Robots-Tag:noindex
X-PUBLISHED-TTL:PT1H
BEGIN:VTIMEZONE
TZID:America/Los_Angeles
BEGIN:DAYLIGHT
TZOFFSETFROM:-0800
TZOFFSETTO:-0700
TZNAME:PDT
DTSTART:20220313T100000
END:DAYLIGHT
BEGIN:STANDARD
TZOFFSETFROM:-0700
TZOFFSETTO:-0800
TZNAME:PST
DTSTART:20221106T090000
END:STANDARD
BEGIN:DAYLIGHT
TZOFFSETFROM:-0800
TZOFFSETTO:-0700
TZNAME:PDT
DTSTART:20230312T100000
END:DAYLIGHT
BEGIN:STANDARD
TZOFFSETFROM:-0700
TZOFFSETTO:-0800
TZNAME:PST
DTSTART:20231105T090000
END:STANDARD
BEGIN:DAYLIGHT
TZOFFSETFROM:-0800
TZOFFSETTO:-0700
TZNAME:PDT
DTSTART:20240310T100000
END:DAYLIGHT
BEGIN:STANDARD
TZOFFSETFROM:-0700
TZOFFSETTO:-0800
TZNAME:PST
DTSTART:20241103T090000
END:STANDARD
END:VTIMEZONE
BEGIN:VEVENT
DTSTART;TZID=America/Los_Angeles:20231022T060000
DTEND;TZID=America/Los_Angeles:20231022T090000
DTSTAMP:20260421T164022
CREATED:20230918T050111Z
LAST-MODIFIED:20230918T060537Z
UID:2267-1697954400-1697965200@districtone-nv.org
SUMMARY:Area / Intergroup Service Festival
DESCRIPTION:Service Festival Flyer
URL:https://districtone-nv.org/index.php/event/area-intergroup-service-festival/
LOCATION:Central Office\, 1515 E Tropican Ave #710\, Las Vegas\, Nevada\, 89119
END:VEVENT
END:VCALENDAR