BEGIN:VCALENDAR
VERSION:2.0
PRODID:-//District One, Area 42 - Nevada - ECPv6.15.15//NONSGML v1.0//EN
CALSCALE:GREGORIAN
METHOD:PUBLISH
X-ORIGINAL-URL:https://districtone-nv.org
X-WR-CALDESC:Events for District One, Area 42 - Nevada
REFRESH-INTERVAL;VALUE=DURATION:PT1H
X-Robots-Tag:noindex
X-PUBLISHED-TTL:PT1H
BEGIN:VTIMEZONE
TZID:America/Los_Angeles
BEGIN:DAYLIGHT
TZOFFSETFROM:-0800
TZOFFSETTO:-0700
TZNAME:PDT
DTSTART:20220313T100000
END:DAYLIGHT
BEGIN:STANDARD
TZOFFSETFROM:-0700
TZOFFSETTO:-0800
TZNAME:PST
DTSTART:20221106T090000
END:STANDARD
BEGIN:DAYLIGHT
TZOFFSETFROM:-0800
TZOFFSETTO:-0700
TZNAME:PDT
DTSTART:20230312T100000
END:DAYLIGHT
BEGIN:STANDARD
TZOFFSETFROM:-0700
TZOFFSETTO:-0800
TZNAME:PST
DTSTART:20231105T090000
END:STANDARD
BEGIN:DAYLIGHT
TZOFFSETFROM:-0800
TZOFFSETTO:-0700
TZNAME:PDT
DTSTART:20240310T100000
END:DAYLIGHT
BEGIN:STANDARD
TZOFFSETFROM:-0700
TZOFFSETTO:-0800
TZNAME:PST
DTSTART:20241103T090000
END:STANDARD
END:VTIMEZONE
BEGIN:VEVENT
DTSTART;TZID=America/Los_Angeles:20230709T020000
DTEND;TZID=America/Los_Angeles:20230709T050000
DTSTAMP:20260421T213729
CREATED:20230127T044845Z
LAST-MODIFIED:20230707T193537Z
UID:1951-1688868000-1688878800@districtone-nv.org
SUMMARY:SAGSC Meeting
DESCRIPTION:SAGSC Meeting Agenda\nAgenda de la reunión del SAGSC – Español
URL:https://districtone-nv.org/index.php/event/sagsc-3/
LOCATION:Central Office\, 1515 E Tropican Ave #710\, Las Vegas\, Nevada\, 89119
END:VEVENT
BEGIN:VEVENT
DTSTART;TZID=America/Los_Angeles:20230709T031500
DTEND;TZID=America/Los_Angeles:20230709T041500
DTSTAMP:20260421T213729
CREATED:20230704T012626Z
LAST-MODIFIED:20230704T012627Z
UID:2213-1688872500-1688876100@districtone-nv.org
SUMMARY:District One Business Meeting
DESCRIPTION:Business Meeting Agenda
URL:https://districtone-nv.org/index.php/event/district-one-business-meeting-6/
LOCATION:Central Office\, 1515 E Tropican Ave #710\, Las Vegas\, Nevada\, 89119
END:VEVENT
END:VCALENDAR